BEGIN:VCALENDAR
VERSION:2.0
PRODID:-// - ECPv6.15.20//NONSGML v1.0//EN
CALSCALE:GREGORIAN
METHOD:PUBLISH
X-ORIGINAL-URL:https://franciswealthagency.com
X-WR-CALDESC:Events for 
REFRESH-INTERVAL;VALUE=DURATION:PT1H
X-Robots-Tag:noindex
X-PUBLISHED-TTL:PT1H
BEGIN:VTIMEZONE
TZID:UTC
BEGIN:STANDARD
TZOFFSETFROM:+0000
TZOFFSETTO:+0000
TZNAME:UTC
DTSTART:20250101T000000
END:STANDARD
END:VTIMEZONE
BEGIN:VEVENT
DTSTART;TZID=UTC:20260322T130000
DTEND;TZID=UTC:20260322T140000
DTSTAMP:20260420T110652
CREATED:20260304T193511Z
LAST-MODIFIED:20260305T203616Z
UID:1251-1774184400-1774188000@franciswealthagency.com
SUMMARY:Faith and Finance
DESCRIPTION:The Bible speaks about money more than 2\,000 times\, yet many believers struggle with:\n DebtPoor creditNo savings No financial plan\n\nIt’s time to take control of your financial future with biblical wisdom and practical strategies.\nIn this workshop you will learn:\n Biblical money principles How to eliminate debt How to build generational wealthHow to protect your family with proper financial planning How to steward what God has given you.\n  \n\n                    Faith and Finance Registered MarchFirst NameLast NameEmailPhone NumberNumber of GuestsBook Your Seats
URL:https://franciswealthagency.com/event/faith-and-finance/
LOCATION:4404 Crossroad Center Columbus\, OH 43232\, 4404 Crossroad Center\, Columbus\, OH\, 43232\, United States
ATTACH;FMTTYPE=image/jpeg:https://franciswealthagency.com/wp-content/uploads/2026/03/Black-and-White-Fashion-Sale-Promotional-Marketing-Flyer.jpg
END:VEVENT
BEGIN:VEVENT
DTSTART;TZID=UTC:20260316T210000
DTEND;TZID=UTC:20260316T220000
DTSTAMP:20260420T110652
CREATED:20260303T194609Z
LAST-MODIFIED:20260311T194024Z
UID:1240-1773694800-1773698400@franciswealthagency.com
SUMMARY:Momentum Book Club
DESCRIPTION:  \nEmbark with us on a transformative journey! The Momentum Book Club is where we seamlessly blend wealth and health to create a holistic path for growth. \n\n                    Momentum Book ClubFirst NameLast NameEmailPhone NumberNumber of GuestsBook Your Seats
URL:https://franciswealthagency.com/event/book-club/
LOCATION:Zoom
ATTACH;FMTTYPE=image/jpeg:https://franciswealthagency.com/wp-content/uploads/2026/03/1.jpg
END:VEVENT
END:VCALENDAR